View In:
ArcGIS JavaScript
ArcGIS Online Map Viewer
ArcGIS Earth
Service Description: The data that will be used to query the service layer directly.
Name: Mosaic_Dataset_Cache_Catalog
Description:
Single Fused Map Cache: false
Extent:
XMin: 1.5680417372633783E7
YMin: -4514305.1955608735
XMax: 1.773207637494508E7
YMax: -3259700.0607432323
Spatial Reference: 102100
(3857)
Initial Extent:
XMin: 1.5680417372633783E7
YMin: -4514305.1955608735
XMax: 1.773207637494508E7
YMax: -3259700.0607432323
Spatial Reference: 102100
(3857)
Full Extent:
XMin: 1.5680417372633783E7
YMin: -4514305.1955608735
XMax: 1.773207637494508E7
YMax: -3259700.0607432323
Spatial Reference: 102100
(3857)
Pixel Size X: 0.03732276769999999
Pixel Size Y: 0.03732276769999999
Band Count: 3
Pixel Type: U8
RasterFunction Infos: {"rasterFunctionInfos": [{
"name": "None",
"description": "Make a Raster or Raster Dataset into a Function Raster Dataset.",
"help": ""
}]}
Mensuration Capabilities: Basic
Inspection Capabilities:
Has Histograms: false
Has Colormap: false
Has Multi Dimensions : false
Rendering Rule:
Min Scale: 0
Max Scale: 0
Copyright Text: null
Service Data Type: esriImageServiceDataTypeRGB
Min Values: N/A
Max Values: N/A
Mean Values: N/A
Standard Deviation Values: N/A
Object ID Field: OBJECTID
Fields:
-
OBJECTID
(
type: esriFieldTypeOID, alias: OBJECTID
)
-
Shape
(
type: esriFieldTypeGeometry, alias: Shape
)
-
Name
(
type: esriFieldTypeString, alias: Name, length: 200
)
-
MinPS
(
type: esriFieldTypeDouble, alias: MinPS
)
-
MaxPS
(
type: esriFieldTypeDouble, alias: MaxPS
)
-
LowPS
(
type: esriFieldTypeDouble, alias: LowPS
)
-
HighPS
(
type: esriFieldTypeDouble, alias: HighPS
)
-
Category
(
type: esriFieldTypeInteger, alias: Category
, Coded Values:
[0: Unknown]
, [1: Primary]
, [2: Overview]
, ...6 more...
)
-
Tag
(
type: esriFieldTypeString, alias: Tag, length: 100
)
-
GroupName
(
type: esriFieldTypeString, alias: GroupName, length: 100
)
-
ProductName
(
type: esriFieldTypeString, alias: ProductName, length: 100
)
-
CenterX
(
type: esriFieldTypeDouble, alias: CenterX
)
-
CenterY
(
type: esriFieldTypeDouble, alias: CenterY
)
-
ZOrder
(
type: esriFieldTypeInteger, alias: ZOrder
)
-
BestByResDate
(
type: esriFieldTypeInteger, alias: BestByResDate
)
-
max_LoD
(
type: esriFieldTypeInteger, alias: max_LoD
)
-
total_score
(
type: esriFieldTypeInteger, alias: total_score
)
-
Dataset_ID
(
type: esriFieldTypeString, alias: Dataset_ID, length: 50
)
-
SOrder
(
type: esriFieldTypeInteger, alias: SOrder
)
-
StereoID
(
type: esriFieldTypeString, alias: StereoID, length: 255
)
-
BlockName
(
type: esriFieldTypeString, alias: BlockName, length: 255
)
-
BlockType
(
type: esriFieldTypeString, alias: BlockType, length: 255
)
-
BlockStartDate
(
type: esriFieldTypeDate, alias: BlockStartDate, length: 8
)
-
BlockEndDate
(
type: esriFieldTypeDate, alias: BlockEndDate, length: 8
)
-
BlockID
(
type: esriFieldTypeString, alias: BlockID, length: 255
)
-
BandTypes
(
type: esriFieldTypeString, alias: BandTypes, length: 255
)
-
MosaicStartDate
(
type: esriFieldTypeDate, alias: MosaicStartDate, length: 8
)
-
MosaicEndDate
(
type: esriFieldTypeDate, alias: MosaicEndDate, length: 8
)
-
band_order
(
type: esriFieldTypeString, alias: band_order, length: 255
)
-
file_size_mb
(
type: esriFieldTypeDouble, alias: file_size_mb
)
-
SC_CODE_STRING
(
type: esriFieldTypeString, alias: SC_CODE_STRING, length: 255
)
-
SubMerged
(
type: esriFieldTypeString, alias: SubMerged, length: 255
)
-
Footprint
(
type: esriFieldTypeInteger, alias: Footprint
)
-
Copyright
(
type: esriFieldTypeString, alias: Copyright, length: 255
)
-
Authorisation
(
type: esriFieldTypeString, alias: Authorisation, length: 255
)
-
Shape_Length
(
type: esriFieldTypeDouble, alias: Shape_Length
)
-
Shape_Area
(
type: esriFieldTypeDouble, alias: Shape_Area
)
Default Mosaic Method: Northwest
Allowed Mosaic Methods: NorthWest,Center,LockRaster,ByAttribute,Nadir,Viewpoint,Seamline,None
SortField:
SortValue: null
Mosaic Operator: First
Default Compression Quality: 75
Default Resampling Method: Bilinear
Max Record Count: 1000000000
Max Image Height: 4100
Max Image Width: 15000
Max Download Image Count: 1
Max Mosaic Image Count: 2000
Allow Raster Function: true
Allow Copy: false
Allow Analysis: true
Allow Compute TiePoints: false
Supports Statistics: true
Supports Advanced Queries: true
Use StandardizedQueries: true
Raster Type Infos:
Name: Raster Dataset
Description: Supports all ArcGIS Raster Datasets
Help:
Has Raster Attribute Table: false
Edit Fields Info: null
Ownership Based AccessControl For Rasters: null
Child Resources:
Info
Statistics
Key Properties
Legend
Raster Function Infos
Supported Operations:
Export Image
Query
Identify
Measure
Compute Histograms
Compute Statistics Histograms
Get Samples
Compute Class Statistics
Query GPS Info
Find Images
Image to Map
Map to Image
Measure from Image
Image to Map Multiray
Query Boundary
Compute Pixel Location
Compute Angles
Validate
Project